BEGIN:VCALENDAR
VERSION:2.0
PRODID:-//Glendale Montessori - ECPv6.15.20//NONSGML v1.0//EN
CALSCALE:GREGORIAN
METHOD:PUBLISH
X-WR-CALNAME:Glendale Montessori
X-ORIGINAL-URL:https://glendalemontessorischool.net
X-WR-CALDESC:Events for Glendale Montessori
REFRESH-INTERVAL;VALUE=DURATION:PT1H
X-Robots-Tag:noindex
X-PUBLISHED-TTL:PT1H
BEGIN:VTIMEZONE
TZID:America/Los_Angeles
BEGIN:DAYLIGHT
TZOFFSETFROM:-0800
TZOFFSETTO:-0700
TZNAME:PDT
DTSTART:20220313T100000
END:DAYLIGHT
BEGIN:STANDARD
TZOFFSETFROM:-0700
TZOFFSETTO:-0800
TZNAME:PST
DTSTART:20221106T090000
END:STANDARD
BEGIN:DAYLIGHT
TZOFFSETFROM:-0800
TZOFFSETTO:-0700
TZNAME:PDT
DTSTART:20230312T100000
END:DAYLIGHT
BEGIN:STANDARD
TZOFFSETFROM:-0700
TZOFFSETTO:-0800
TZNAME:PST
DTSTART:20231105T090000
END:STANDARD
BEGIN:DAYLIGHT
TZOFFSETFROM:-0800
TZOFFSETTO:-0700
TZNAME:PDT
DTSTART:20240310T100000
END:DAYLIGHT
BEGIN:STANDARD
TZOFFSETFROM:-0700
TZOFFSETTO:-0800
TZNAME:PST
DTSTART:20241103T090000
END:STANDARD
BEGIN:DAYLIGHT
TZOFFSETFROM:-0800
TZOFFSETTO:-0700
TZNAME:PDT
DTSTART:20250309T100000
END:DAYLIGHT
BEGIN:STANDARD
TZOFFSETFROM:-0700
TZOFFSETTO:-0800
TZNAME:PST
DTSTART:20251102T090000
END:STANDARD
END:VTIMEZONE
BEGIN:VEVENT
DTSTART;VALUE=DATE:20240328
DTEND;VALUE=DATE:20240329
DTSTAMP:20260423T024820
CREATED:20230710T003735Z
LAST-MODIFIED:20230710T003735Z
UID:727-1711584000-1711670399@glendalemontessorischool.net
SUMMARY:Egg Hunt & Early Dismissal for Teacher In service - No Lunch or After School Care
DESCRIPTION:
URL:https://glendalemontessorischool.net/calendar/egg-hunt-early-dismissal-for-teacher-in-service-no-lunch-or-after-school-care/
END:VEVENT
BEGIN:VEVENT
DTSTART;VALUE=DATE:20240319
DTEND;VALUE=DATE:20240322
DTSTAMP:20260423T024820
CREATED:20230710T003659Z
LAST-MODIFIED:20230710T003659Z
UID:726-1710806400-1711065599@glendalemontessorischool.net
SUMMARY:Terra Nova Testing (3rd-6th grade)
DESCRIPTION:
URL:https://glendalemontessorischool.net/calendar/terra-nova-testing-3rd-6th-grade-2/
END:VEVENT
BEGIN:VEVENT
DTSTART;VALUE=DATE:20240306
DTEND;VALUE=DATE:20240309
DTSTAMP:20260423T024820
CREATED:20230710T003617Z
LAST-MODIFIED:20230710T003617Z
UID:725-1709683200-1709942399@glendalemontessorischool.net
SUMMARY:Astrocamp (3rd-6th grade)
DESCRIPTION:
URL:https://glendalemontessorischool.net/calendar/astrocamp-3rd-6th-grade-2/
END:VEVENT
BEGIN:VEVENT
DTSTART;VALUE=DATE:20240227
DTEND;VALUE=DATE:20240228
DTSTAMP:20260423T024820
CREATED:20230710T003542Z
LAST-MODIFIED:20230710T003542Z
UID:724-1708992000-1709078399@glendalemontessorischool.net
SUMMARY:Upper Elementary Biography Speeches
DESCRIPTION:
URL:https://glendalemontessorischool.net/calendar/upper-elementary-biography-speeches/
CATEGORIES:Upper Elementary Students
END:VEVENT
BEGIN:VEVENT
DTSTART;VALUE=DATE:20240223
DTEND;VALUE=DATE:20240224
DTSTAMP:20260423T024820
CREATED:20230710T003511Z
LAST-MODIFIED:20230710T003511Z
UID:723-1708646400-1708732799@glendalemontessorischool.net
SUMMARY:Continuing Enrollment Due
DESCRIPTION:
URL:https://glendalemontessorischool.net/calendar/continuing-enrollment-due/
END:VEVENT
BEGIN:VEVENT
DTSTART;VALUE=DATE:20240221
DTEND;VALUE=DATE:20240222
DTSTAMP:20260423T024820
CREATED:20230710T003455Z
LAST-MODIFIED:20230710T003455Z
UID:722-1708473600-1708559999@glendalemontessorischool.net
SUMMARY:Picture Day
DESCRIPTION:
URL:https://glendalemontessorischool.net/calendar/picture-day-2/
END:VEVENT
BEGIN:VEVENT
DTSTART;VALUE=DATE:20240219
DTEND;VALUE=DATE:20240220
DTSTAMP:20260423T024820
CREATED:20230710T003433Z
LAST-MODIFIED:20230710T003433Z
UID:721-1708300800-1708387199@glendalemontessorischool.net
SUMMARY:Presidents’ Day - No School or After School Care
DESCRIPTION:
URL:https://glendalemontessorischool.net/calendar/presidents-day-no-school-or-after-school-care/
END:VEVENT
BEGIN:VEVENT
DTSTART;VALUE=DATE:20240213
DTEND;VALUE=DATE:20240214
DTSTAMP:20260423T024820
CREATED:20230710T003412Z
LAST-MODIFIED:20230710T003412Z
UID:720-1707782400-1707868799@glendalemontessorischool.net
SUMMARY:100th day of school
DESCRIPTION:
URL:https://glendalemontessorischool.net/calendar/100th-day-of-school/
END:VEVENT
BEGIN:VEVENT
DTSTART;TZID=America/Los_Angeles:20240202T113000
DTEND;TZID=America/Los_Angeles:20240202T114500
DTSTAMP:20260423T024820
CREATED:20230710T003342Z
LAST-MODIFIED:20230710T003342Z
UID:719-1706873400-1706874300@glendalemontessorischool.net
SUMMARY:Elementary dismissal - 11:30 to 11:45am
DESCRIPTION:
URL:https://glendalemontessorischool.net/calendar/elementary-dismissal-1130-to-1145am-2/
CATEGORIES:Lower Elementary Students,Upper Elementary Students
END:VEVENT
BEGIN:VEVENT
DTSTART;TZID=America/Los_Angeles:20240202T111500
DTEND;TZID=America/Los_Angeles:20240202T113000
DTSTAMP:20260423T024821
CREATED:20230710T003304Z
LAST-MODIFIED:20230710T003304Z
UID:718-1706872500-1706873400@glendalemontessorischool.net
SUMMARY:Primary dismissal - 11:15 to 11:30am
DESCRIPTION:
URL:https://glendalemontessorischool.net/calendar/primary-dismissal-1115-to-1130am-3/
CATEGORIES:Primary Students
END:VEVENT
BEGIN:VEVENT
DTSTART;VALUE=DATE:20240202
DTEND;VALUE=DATE:20240203
DTSTAMP:20260423T024821
CREATED:20230710T003228Z
LAST-MODIFIED:20230710T003228Z
UID:717-1706832000-1706918399@glendalemontessorischool.net
SUMMARY:Early Dismissal for Parent Conferences - No Lunch or After School Care
DESCRIPTION:
URL:https://glendalemontessorischool.net/calendar/early-dismissal-for-parent-conferences-no-lunch-or-after-school-care/
END:VEVENT
BEGIN:VEVENT
DTSTART;VALUE=DATE:20240115
DTEND;VALUE=DATE:20240116
DTSTAMP:20260423T024821
CREATED:20230710T003205Z
LAST-MODIFIED:20230710T003205Z
UID:716-1705276800-1705363199@glendalemontessorischool.net
SUMMARY:Martin Luther King Jr. Day - No School
DESCRIPTION:
URL:https://glendalemontessorischool.net/calendar/martin-luther-king-jr-day-no-school-4/
END:VEVENT
BEGIN:VEVENT
DTSTART;VALUE=DATE:20240103
DTEND;VALUE=DATE:20240104
DTSTAMP:20260423T024821
CREATED:20230710T003140Z
LAST-MODIFIED:20230710T003140Z
UID:715-1704240000-1704326399@glendalemontessorischool.net
SUMMARY:School Resumes - Welcome Back!
DESCRIPTION:
URL:https://glendalemontessorischool.net/calendar/school-resumes-welcome-back/
END:VEVENT
BEGIN:VEVENT
DTSTART;VALUE=DATE:20231220
DTEND;VALUE=DATE:20240103
DTSTAMP:20260423T024821
CREATED:20230710T003111Z
LAST-MODIFIED:20230710T003111Z
UID:714-1703030400-1704239999@glendalemontessorischool.net
SUMMARY:Winter Break - No School
DESCRIPTION:
URL:https://glendalemontessorischool.net/calendar/winter-break-no-school/
END:VEVENT
BEGIN:VEVENT
DTSTART;TZID=America/Los_Angeles:20231219T113000
DTEND;TZID=America/Los_Angeles:20231219T114500
DTSTAMP:20260423T024821
CREATED:20230710T003030Z
LAST-MODIFIED:20230710T003036Z
UID:713-1702985400-1702986300@glendalemontessorischool.net
SUMMARY:Elementary dismissal - 11:30 to 11:45am
DESCRIPTION:
URL:https://glendalemontessorischool.net/calendar/elementary-dismissal-1130-to-1145am/
CATEGORIES:Lower Elementary Students,Upper Elementary Students
END:VEVENT
BEGIN:VEVENT
DTSTART;TZID=America/Los_Angeles:20231219T111500
DTEND;TZID=America/Los_Angeles:20231219T113000
DTSTAMP:20260423T024821
CREATED:20230710T002948Z
LAST-MODIFIED:20230710T002948Z
UID:712-1702984500-1702985400@glendalemontessorischool.net
SUMMARY:Primary dismissal - 11:15 to 11:30am
DESCRIPTION:
URL:https://glendalemontessorischool.net/calendar/primary-dismissal-1115-to-1130am-2/
CATEGORIES:Primary Students
END:VEVENT
BEGIN:VEVENT
DTSTART;VALUE=DATE:20231219
DTEND;VALUE=DATE:20231220
DTSTAMP:20260423T024821
CREATED:20230710T002904Z
LAST-MODIFIED:20230710T002904Z
UID:711-1702944000-1703030399@glendalemontessorischool.net
SUMMARY:Early Dismissal for Teacher In Service - No Lunch or After School Care
DESCRIPTION:
URL:https://glendalemontessorischool.net/calendar/early-dismissal-for-teacher-in-service-no-lunch-or-after-school-care/
END:VEVENT
BEGIN:VEVENT
DTSTART;VALUE=DATE:20231213
DTEND;VALUE=DATE:20231214
DTSTAMP:20260423T024821
CREATED:20230710T002831Z
LAST-MODIFIED:20230710T002831Z
UID:710-1702425600-1702511999@glendalemontessorischool.net
SUMMARY:Mrs Claus visits (shhhhhh….it’s a secret!)
DESCRIPTION:
URL:https://glendalemontessorischool.net/calendar/mrs-claus-visits-shhhhhh-its-a-secret/
END:VEVENT
BEGIN:VEVENT
DTSTART;TZID=America/Los_Angeles:20231212T093000
DTEND;TZID=America/Los_Angeles:20231212T120000
DTSTAMP:20260423T024821
CREATED:20230710T002754Z
LAST-MODIFIED:20230710T002754Z
UID:709-1702373400-1702382400@glendalemontessorischool.net
SUMMARY:Winter Concert
DESCRIPTION:
URL:https://glendalemontessorischool.net/calendar/winter-concert-4/
END:VEVENT
BEGIN:VEVENT
DTSTART;VALUE=DATE:20231122
DTEND;VALUE=DATE:20231125
DTSTAMP:20260423T024821
CREATED:20230710T002643Z
LAST-MODIFIED:20230710T002643Z
UID:707-1700611200-1700870399@glendalemontessorischool.net
SUMMARY:Thanksgiving Break - No School
DESCRIPTION:
URL:https://glendalemontessorischool.net/calendar/thanksgiving-break-no-school/
CATEGORIES:Lower Elementary Students,Parents,Primary Students,Upper Elementary Students
END:VEVENT
BEGIN:VEVENT
DTSTART;VALUE=DATE:20231110
DTEND;VALUE=DATE:20231111
DTSTAMP:20260423T024821
CREATED:20230710T002612Z
LAST-MODIFIED:20230710T002612Z
UID:706-1699574400-1699660799@glendalemontessorischool.net
SUMMARY:Veterans Day - No School
DESCRIPTION:
URL:https://glendalemontessorischool.net/calendar/veterans-day-no-school-3/
CATEGORIES:Lower Elementary Students,Parents,Primary Students,Upper Elementary Students
END:VEVENT
BEGIN:VEVENT
DTSTART;VALUE=DATE:20231109
DTEND;VALUE=DATE:20231110
DTSTAMP:20260423T024821
CREATED:20230710T002543Z
LAST-MODIFIED:20230710T002543Z
UID:705-1699488000-1699574399@glendalemontessorischool.net
SUMMARY:Parent Conferences - No School for Students
DESCRIPTION:
URL:https://glendalemontessorischool.net/calendar/parent-conferences-no-school-for-students-9/
CATEGORIES:Lower Elementary Students,Parents,Primary Students,Upper Elementary Students
END:VEVENT
BEGIN:VEVENT
DTSTART;VALUE=DATE:20231031
DTEND;VALUE=DATE:20231101
DTSTAMP:20260423T024821
CREATED:20230710T002505Z
LAST-MODIFIED:20230710T002505Z
UID:704-1698710400-1698796799@glendalemontessorischool.net
SUMMARY:Halloween Festivities
DESCRIPTION:
URL:https://glendalemontessorischool.net/calendar/halloween-festivities/
CATEGORIES:Lower Elementary Students,Parents,Primary Students,Upper Elementary Students
END:VEVENT
BEGIN:VEVENT
DTSTART;VALUE=DATE:20231009
DTEND;VALUE=DATE:20231010
DTSTAMP:20260423T024821
CREATED:20230710T002427Z
LAST-MODIFIED:20230710T002427Z
UID:703-1696809600-1696895999@glendalemontessorischool.net
SUMMARY:Indigenous Peoples Day - No School
DESCRIPTION:
URL:https://glendalemontessorischool.net/calendar/indigenous-peoples-day-no-school-3/
CATEGORIES:Lower Elementary Students,Parents,Primary Students,Upper Elementary Students
END:VEVENT
BEGIN:VEVENT
DTSTART;TZID=America/Los_Angeles:20231006T113000
DTEND;TZID=America/Los_Angeles:20231006T114500
DTSTAMP:20260423T024821
CREATED:20230710T002320Z
LAST-MODIFIED:20230710T002354Z
UID:702-1696591800-1696592700@glendalemontessorischool.net
SUMMARY:Elementary dismissal - 11:30 to 11:45am
DESCRIPTION:
URL:https://glendalemontessorischool.net/calendar/elementary-dismissal/
CATEGORIES:Lower Elementary Students,Upper Elementary Students
END:VEVENT
BEGIN:VEVENT
DTSTART;TZID=America/Los_Angeles:20231006T111500
DTEND;TZID=America/Los_Angeles:20231006T113000
DTSTAMP:20260423T024821
CREATED:20230710T002233Z
LAST-MODIFIED:20230710T002233Z
UID:701-1696590900-1696591800@glendalemontessorischool.net
SUMMARY:Primary dismissal - 11:15 to 11:30am
DESCRIPTION:
URL:https://glendalemontessorischool.net/calendar/primary-dismissal-1115-to-1130am/
CATEGORIES:Primary Students
END:VEVENT
BEGIN:VEVENT
DTSTART;VALUE=DATE:20231006
DTEND;VALUE=DATE:20231007
DTSTAMP:20260423T024821
CREATED:20230710T002138Z
LAST-MODIFIED:20230710T002138Z
UID:700-1696550400-1696636799@glendalemontessorischool.net
SUMMARY:Early Dismissal for Staff CPR & First Aid Training - No Lunch or After School Care
DESCRIPTION:
URL:https://glendalemontessorischool.net/calendar/early-dismissal-for-staff-cpr-first-aid-training-no-lunch-or-after-school-care/
END:VEVENT
BEGIN:VEVENT
DTSTART;TZID=America/Los_Angeles:20231004T183000
DTEND;TZID=America/Los_Angeles:20231004T200000
DTSTAMP:20260423T024821
CREATED:20230710T002033Z
LAST-MODIFIED:20230710T002033Z
UID:699-1696444200-1696449600@glendalemontessorischool.net
SUMMARY:Primary Parent Education Night w / Dr. Cathy Shaefer (No After School Care)
DESCRIPTION:
URL:https://glendalemontessorischool.net/calendar/primary-parent-education-night-w-dr-cathy-shaefer-no-after-school-care/
CATEGORIES:Parents,Primary Students
END:VEVENT
BEGIN:VEVENT
DTSTART;TZID=America/Los_Angeles:20230927T183000
DTEND;TZID=America/Los_Angeles:20230927T200000
DTSTAMP:20260423T024821
CREATED:20230710T001924Z
LAST-MODIFIED:20230710T001924Z
UID:698-1695839400-1695844800@glendalemontessorischool.net
SUMMARY:Elementary Parent Education Night w/ Dr. Oren Boxer (No After School Care)
DESCRIPTION:
URL:https://glendalemontessorischool.net/calendar/elementary-parent-education-night-w-dr-oren-boxer-no-after-school-care/
END:VEVENT
BEGIN:VEVENT
DTSTART;VALUE=DATE:20230906
DTEND;VALUE=DATE:20230907
DTSTAMP:20260423T024821
CREATED:20230710T001801Z
LAST-MODIFIED:20230710T001801Z
UID:697-1693958400-1694044799@glendalemontessorischool.net
SUMMARY:School starts for NEW primary students
DESCRIPTION:
URL:https://glendalemontessorischool.net/calendar/school-starts-for-new-primary-students-4/
END:VEVENT
END:VCALENDAR