BEGIN:VCALENDAR
VERSION:2.0
PRODID:-//Glendale Montessori - ECPv6.15.20//NONSGML v1.0//EN
CALSCALE:GREGORIAN
METHOD:PUBLISH
X-WR-CALNAME:Glendale Montessori
X-ORIGINAL-URL:https://glendalemontessorischool.net
X-WR-CALDESC:Events for Glendale Montessori
REFRESH-INTERVAL;VALUE=DURATION:PT1H
X-Robots-Tag:noindex
X-PUBLISHED-TTL:PT1H
BEGIN:VTIMEZONE
TZID:UTC
BEGIN:STANDARD
TZOFFSETFROM:+0000
TZOFFSETTO:+0000
TZNAME:UTC
DTSTART:20180101T000000
END:STANDARD
END:VTIMEZONE
BEGIN:VEVENT
DTSTART;VALUE=DATE:20190503
DTEND;VALUE=DATE:20190504
DTSTAMP:20260424T012808
CREATED:20180801T223439Z
LAST-MODIFIED:20180801T223439Z
UID:502-1556841600-1556927999@glendalemontessorischool.net
SUMMARY:Parent Conferences – NO SCHOOL for Students
DESCRIPTION:Parent Conferences – No School for Students
URL:https://glendalemontessorischool.net/calendar/parent-conferences-no-school-for-students-2/
CATEGORIES:Lower Elementary Students,Parents,Primary Students,Upper Elementary Students
END:VEVENT
BEGIN:VEVENT
DTSTART;VALUE=DATE:20190515
DTEND;VALUE=DATE:20190517
DTSTAMP:20260424T012808
CREATED:20180801T223536Z
LAST-MODIFIED:20180801T223547Z
UID:503-1557878400-1558051199@glendalemontessorischool.net
SUMMARY:Science Fair
DESCRIPTION:
URL:https://glendalemontessorischool.net/calendar/science-fair-3/
END:VEVENT
BEGIN:VEVENT
DTSTART;VALUE=DATE:20190527
DTEND;VALUE=DATE:20190528
DTSTAMP:20260424T012808
CREATED:20180801T223615Z
LAST-MODIFIED:20180801T223615Z
UID:504-1558915200-1559001599@glendalemontessorischool.net
SUMMARY:Memorial Day – NO SCHOOL
DESCRIPTION:
URL:https://glendalemontessorischool.net/calendar/memorial-day-no-school/
CATEGORIES:Lower Elementary Students,Primary Students,Upper Elementary Students
END:VEVENT
END:VCALENDAR